Workbook

Sheet Здоровье
A1: Лист наблюдения результатов диагностики стартового контроля в предшкольной группе (от 5-и лет)
A2: Оқу жылы | B2: Учебный год 2022-2023 0 "Б" класс Дата проведения сентябрь
A3: Образовательная область "Здоровье"
A4: № | B4: Ф.И.О ребенка | C4: Физическая культура | H4: общее количество баллов | I4: средний балл | J4: уровень развития умений и навыков
C5: 5-зд.1 | D5: 5-зд.2 | E5: 5-зд.3 | F5: 5-зд.4 | G5: 5-зд.5
A6: 1 | B6: Болотько Арсений | C6: 2 | D6: 2 | E6: =[1]Здоровье!E6 -> 3 | F6: =[1]Здоровье!F6 -> 3 | G6: =[1]Здоровье!G6 -> 3 | H6: 13 | I6: 2.6 | J6: 3
A7: 2 | B7: Мухамедали Таир | C7: 2 | D7: 2 | E7: =[1]Здоровье!E7 -> 3 | F7: 2 | G7: =[1]Здоровье!G7 -> 2 | H7: 11 | I7: 2.2 | J7: 2
A8: 3 | B8: Сулейменов Мухамед Али | C8: =[1]Здоровье!C8 -> 3 | D8: =[1]Здоровье!D8 -> 3 | E8: =[1]Здоровье!E8 -> 3 | F8: =[1]Здоровье!F8 -> 2 | G8: =[1]Здоровье!G8 -> 2 | H8: =[1]Здоровье!H8 -> 13 | I8: =[1]Здоровье!I8 -> 2.6 | J8: 3
A9: 4 | B9: Торгушина Альбина | C9: =[1]Здоровье!C9 -> 3 | D9: =[1]Здоровье!D9 -> 3 | E9: =[1]Здоровье!E9 -> 3 | F9: =[1]Здоровье!F9 -> 3 | G9: =[1]Здоровье!G9 -> 2 | H9: =[1]Здоровье!H9 -> 14 | I9: =[1]Здоровье!I9 -> 2.8 | J9: 3
C10: I уровень II уровень 1- 25% III уровень 3-75%

Sheet Лист1

Sheet Лист2

Sheet Коммуникация
A1: Лист наблюдения результатов диагностики стартового контроля в предшкольной группе (от 5-и лет)
A2: Оқу жылы | B2: Учебный год 2022-2023 0"Б" класс Дата проведения сентябрь
A3: Образовательная область "Коммуникация"
C4: Развитие речи | G4: Художественная литература | R4: Казахский язык | AC4: общее количество баллов | AD4: средний балл | AE4: уровень развития умений и навыков
B5: Ф.И.О ребенка | C5: 5-К.1 | D5: 5-К.2 | E5: 5-К.3 | F5: 5-К.4 | G5: 5- К.5 | H5: 5-К.6 | I5: 5-К.7 | J5: 5-К.8 | K5: 5-К.9 | L5: 5-К.10 | M5: 5-К.11 | N5: 5-К.12 | O5: 5-К.13 | P5: 5-К.14 | Q5: 5-К.15 | R5: 5-К.16 | S5: 5-К.17 | T5: 5-К.18 | U5: 5-К.19 | V5: 5-К.20 | W5: 5-К.21 | X5: 5-К.22 | Y5: 5-К.23 | Z5: 5-К.24 | AA5: 5-К.25 | AB5: 5-К.26
A6: 1 | B6: =Здоровье!B6 -> Болотько Арсений | C6: 2 | D6: 2 | E6: 2 | F6: 2 | G6: =[1]Коммуникация!G6 -> 2 | H6: =[1]Коммуникация!H6 -> 3 | I6: =[1]Коммуникация!I6 -> 3 | J6: =[1]Коммуникация!J6 -> 3 | K6: 2 | L6: 2 | M6: 2 | N6: =[1]Коммуникация!N6 -> 3 | O6: =[1]Коммуникация!O6 -> 3 | P6: =[1]Коммуникация!P6 -> 2 | Q6: =[1]Коммуникация!Q6 -> 3 | R6: =[1]Коммуникация!R6 -> 2 | S6: =[1]Коммуникация!S6 -> 2 | T6: =[1]Коммуникация!T6 -> 2 | U6: 2 | V6: 2 | W6: 2 | X6: 2 | Y6: =[1]Коммуникация!Y6 -> 2 | Z6: =[1]Коммуникация!Z6 -> 3 | AA6: 2 | AB6: 2 | AC6: 59 | AD6: 2.2 | AE6: 2
A7: 2 | B7: =Здоровье!B7 -> Мухамедали Таир | C7: =[1]Коммуникация!C7 -> 3 | D7: =[1]Коммуникация!D7 -> 3 | E7: =[1]Коммуникация!E7 -> 3 | F7: =[1]Коммуникация!F7 -> 3 | G7: =[1]Коммуникация!G7 -> 2 | H7: =[1]Коммуникация!H7 -> 3 | I7: =[1]Коммуникация!I7 -> 2 | J7: =[1]Коммуникация!J7 -> 3 | ... S7: =[1]Коммуникация!S7 -> 2 | T7: 2 | U7: 2 | V7: =[1]Коммуникация!V7 -> 2 | W7: 2 | X7: 2 | Y7: =[1]Коммуникация!Y7 -> 2 | Z7: =[1]Коммуникация!Z7 -> 2 | AA7: 2 | AB7: =[1]Коммуникация!AB7 -> 2 | AC7: 63 | AD7: 2.4 | AE7: 2
A8: 3 | B8: =Здоровье!B8 -> Сулейменов Мухамед Али | C8: =[1]Коммуникация!C8 -> 2 | D8: =[1]Коммуникация!D8 -> 2 | E8: =[1]Коммуникация!E8 -> 3 | F8: =[1]Коммуникация!F8 -> 2 | G8: =[1]Коммуникация!G8 -> 2 | H8: =[1]Коммуникация!H8 -> 3 | I8: =[1]Коммуникация!I8 -> 2 | J8: =[1]Коммуникация!J8 -> 3 | ... AC8: =[1]Коммуникация!AC8 -> 70 | AD8: 2.6 | AE8: 3
A9: 4 | B9: =Здоровье!B9 -> Торгушина Альбина | C9: =[1]Коммуникация!C9 -> 3 | D9: =[1]Коммуникация!D9 -> 3 | E9: =[1]Коммуникация!E9 -> 3 | F9: =[1]Коммуникация!F9 -> 3 | G9: =[1]Коммуникация!G9 -> 3 | H9: =[1]Коммуникация!H9 -> 3 | I9: =[1]Коммуникация!I9 -> 3 | J9: =[1]Коммуникация!J9 -> 3 | ... AC9: =[1]Коммуникация!AC9 -> 71 | AD9: 2.7 | AE9: 3
B10: I уровень II уровень 2 -50% III уровень 2-50%

Sheet Познание
A1: Лист наблюдения результатов диагностики стартового контроля в предшкольной группе (от 5-и лет)
A2: Оқу жылы | B2: Учебный год 2022-2023 0"Б" класс Дата проведения сентябрь
A3: Образовательная область "Познание"
C4: Основы математики | F4: Конструирование | J4: Естествознание | S4: общее количество баллов | T4: средний балл | U4: уровень развития умений и навыков
B5: Ф.И.О ребенка | C5: 5-П.1 | D5: 5-П.2 | E5: 5-П.3 | F5: 5-П.4 | G5: 5-П.5 | H5: 5-П.6 | I5: 5-П.7 | J5: 5-П.8 | K5: 5-П.9 | L5: 5-П.10 | M5: 5-П.11 | N5: 5-П.12 | O5: 5-П.13 | P5: 5-П.14 | Q5: 5-П.15 | R5: 5-П.16
A6: 1 | B6: =Коммуникация!B6 -> Болотько Арсений | C6: 2 | D6: =[1]Познание!D6 -> 3 | E6: =[1]Познание!E6 -> 3 | F6: 2 | G6: =[1]Познание!G6 -> 3 | H6: =[1]Познание!H6 -> 3 | I6: 2 | J6: =[1]Познание!J6 -> 3 | K6: 2 | L6: 2 | M6: 2 | N6: =[1]Познание!N6 -> 2 | O6: =[1]Познание!O6 -> 3 | P6: =[1]Познание!P6 -> 3 | Q6: =[1]Познание!Q6 -> 3 | R6: =[1]Познание!R6 -> 3 | S6: 41 | T6: 2.5 | U6: 2
A7: 2 | B7: =Коммуникация!B7 -> Мухамедали Таир | C7: 2 | D7: =[1]Познание!D7 -> 2 | E7: =[1]Познание!E7 -> 2 | F7: =[1]Познание!F7 -> 2 | G7: =[1]Познание!G7 -> 2 | H7: =[1]Познание!H7 -> 3 | I7: =[1]Познание!I7 -> 3 | J7: 2 | K7: 2 | L7: =[1]Познание!L7 -> 2 | M7: =[1]Познание!M7 -> 2 | N7: =[1]Познание!N7 -> 2 | O7: =[1]Познание!O7 -> 3 | P7: 2 | Q7: 2 | R7: 2 | S7: 35 | T7: 2.1 | U7: 2
A8: 3 | B8: =Коммуникация!B8 -> Сулейменов Мухамед Али | C8: =[1]Познание!C8 -> 3 | D8: =[1]Познание!D8 -> 3 | E8: =[1]Познание!E8 -> 2 | F8: 3 | G8: =[1]Познание!G8 -> 3 | H8: =[1]Познание!H8 -> 2 | I8: =[1]Познание!I8 -> 3 | J8: =[1]Познание!J8 -> 3 | K8: 3 | L8: =[1]Познание!L8 -> 3 | M8: =[1]Познание!M8 -> 2 | N8: =[1]Познание!N8 -> 3 | O8: =[1]Познание!O8 -> 3 | P8: =[1]Познание!P8 -> 3 | Q8: 3 | R8: =[1]Познание!R8 -> 2 | S8: 44 | T8: 2.7 | U8: 3
A9: 4 | B9: =Коммуникация!B9 -> Торгушина Альбина | C9: =[1]Познание!C9 -> 3 | D9: 3 | E9: =[1]Познание!E9 -> 3 | F9: =[1]Познание!F9 -> 3 | G9: =[1]Познание!G9 -> 2 | H9: 3 | I9: =[1]Познание!I9 -> 3 | J9: =[1]Познание!J9 -> 3 | K9: =[1]Познание!K9 -> 3 | L9: =[1]Познание!L9 -> 3 | M9: =[1]Познание!M9 -> 2 | N9: =[1]Познание!N9 -> 3 | O9: 3 | P9: =[1]Познание!P9 -> 3 | Q9: =[1]Познание!Q9 -> 3 | R9: =[1]Познание!R9 -> 3 | S9: 46 | T9: 2.8 | U9: 3
B10: I уровень II уровень 2- 50% III уровень 2-50%

Sheet Творчество
A1: Лист наблюдения результатов диагностики стартового контроля в предшкольной группе (от 5-и лет)
A2: Оқу жылы | B2: Учебный год 2022-2023 0"Б"класс Дата проведения сентябрь
A3: Образовательная область "Творчество"
C4: Рисование | H4: Лепка | N4: Аппликация | T4: Музыка | Z4: общее количество баллов | AA4: средний балл | AB4: уровень развития умений и навыков
B5: Ф.И.О ребенка | C5: 5-Т.1 | D5: 5-Т.2 | E5: 5-Т.3 | F5: 5-Т.4 | G5: 5-Т.5 | H5: 5-Т.6 | I5: 5-Т.7 | J5: 5-Т.8 | K5: 5-Т.9 | L5: 5-Т.10 | M5: 5-Т.11 | N5: 5-Т.12 | O5: 5-Т. 13 | P5: 5-Т-14 | Q5: 5-Т.15 | R5: 5-Т.16 | S5: 5-Т.17 | T5: 5-Т.18 | U5: 5-Т.19 | V5: 5-Т.20 | W5: 5-Т.21 | X5: 5-Т.22 | Y5: 5-Т.23
A6: 1 | B6: =Коммуникация!B6 -> Болотько Арсений | C6: 2 | D6: =[1]Творчество!D6 -> 3 | E6: 2 | F6: 2 | G6: =[1]Творчество!G6 -> 3 | H6: 2 | I6: 2 | J6: =[1]Творчество!J6 -> 3 | K6: 2 | L6: =[1]Творчество!L6 -> 3 | M6: 2 | N6: =[1]Творчество!N6 -> 3 | O6: =[1]Творчество!O6 -> 3 | P6: =[1]Творчество!P6 -> 3 | Q6: =[1]Творчество!Q6 -> 3 | R6: =[1]Творчество!R6 -> 3 | S6: =[1]Творчество!S6 -> 3 | T6: =[1]Творчество!T6 -> 3 | U6: =[1]Творчество!U6 -> 3 | ... Y6: =[1]Творчество!Y6 -> 3 | Z6: 62 | AA6: 2.7 | AB6: 3
A7: 2 | B7: =Коммуникация!B7 -> Мухамедали Таир | C7: =[1]Творчество!C7 -> 3 | D7: 2 | E7: =[1]Творчество!E7 -> 2 | F7: =[1]Творчество!F7 -> 2 | G7: =[1]Творчество!G7 -> 2 | H7: 3 | I7: 2 | J7: =[1]Творчество!J7 -> 2 | K7: =[1]Творчество!K7 -> 3 | L7: =[1]Творчество!L7 -> 3 | M7: =[1]Творчество!M7 -> 2 | N7: =[1]Творчество!N7 -> 3 | O7: 2 | P7: =[1]Творчество!P7 -> 3 | Q7: =[1]Творчество!Q7 -> 3 | R7: =[1]Творчество!R7 -> 2 | S7: =[1]Творчество!S7 -> 2 | T7: 2 | U7: =[1]Творчество!U7 -> 2 | V7: =[1]Творчество!V7 -> 2 | W7: =[1]Творчество!W7 -> 3 | X7: =[1]Творчество!X7 -> 3 | Y7: =[1]Творчество!Y7 -> 3 | Z7: 56 | AA7: 2.4 | AB7: 2
A8: 3 | B8: =Коммуникация!B8 -> Сулейменов Мухамед Али | C8: =[1]Творчество!C8 -> 3 | D8: =[1]Творчество!D8 -> 3 | E8: =[1]Творчество!E8 -> 2 | F8: =[1]Творчество!F8 -> 3 | G8: =[1]Творчество!G8 -> 2 | H8: =[1]Творчество!H8 -> 3 | I8: =[1]Творчество!I8 -> 2 | J8: =[1]Творчество!J8 -> 2 | ... Z8: =[1]Творчество!Z8 -> 60 | AA8: 2.6 | AB8: 3
A9: 4 | B9: =Коммуникация!B9 -> Торгушина Альбина | C9: =[1]Творчество!C9 -> 3 | D9: =[1]Творчество!D9 -> 3 | E9: =[1]Творчество!E9 -> 2 | F9: =[1]Творчество!F9 -> 3 | G9: =[1]Творчество!G9 -> 2 | H9: =[1]Творчество!H9 -> 3 | I9: =[1]Творчество!I9 -> 3 | J9: =[1]Творчество!J9 -> 3 | ... Z9: =[1]Творчество!Z9 -> 62 | AA9: 2.7 | AB9: 3
B10: I уровень II уровень 1-25% III уровень 3 -75%

Sheet Социум
A1: Лист наблюдения результатов диагностики стартового контроля в подготовительной группе (от 5-и лет)
A2: Оқу жылы | B2: Учебный год 2022-2023 0"Б" класс Дата проведения сентябрь
A3: Образовательная область "Социум"
A4: № | B4: Ф.И.О ребенка | C4: Ознакомление с окружающим миром | J4: общее количество баллов | K4: средний балл | L4: уровень развития умений и навыков
C5: 5-С.1 | D5: 5-С.2 | E5: 5-С.3 | F5: 5-С.4 | G5: 5-С.5 | H5: 5-С.6 | I5: 5-С.7
A6: 1 | B6: =Коммуникация!B6 -> Болотько Арсений | C6: 2 | D6: =[1]Социум!D6 -> 3 | E6: 2 | F6: =[1]Социум!F6 -> 3 | G6: 2 | H6: =[1]Социум!H6 -> 3 | I6: =[1]Социум!I6 -> 2 | J6: 17 | K6: 2.4 | L6: 2
A7: 2 | B7: =Коммуникация!B7 -> Мухамедали Таир | C7: =[1]Социум!C7 -> 2 | D7: =[1]Социум!D7 -> 2 | E7: 2 | F7: 2 | G7: =[1]Социум!G7 -> 3 | H7: =[1]Социум!H7 -> 2 | I7: =[1]Социум!I7 -> 3 | J7: 16 | K7: 2.3 | L7: 2
A8: 3 | B8: =Коммуникация!B8 -> Сулейменов Мухамед Али | C8: =[1]Социум!C8 -> 3 | D8: =[1]Социум!D8 -> 2 | E8: =[1]Социум!E8 -> 3 | F8: =[1]Социум!F8 -> 3 | G8: =[1]Социум!G8 -> 3 | H8: =[1]Социум!H8 -> 2 | I8: =[1]Социум!I8 -> 3 | J8: =[1]Социум!J8 -> 19 | K8: =[1]Социум!K8 -> 2.7 | L8: 3
A9: 4 | B9: =Коммуникация!B9 -> Торгушина Альбина | C9: =[1]Социум!C9 -> 3 | D9: =[1]Социум!D9 -> 2 | E9: =[1]Социум!E9 -> 2 | F9: =[1]Социум!F9 -> 3 | G9: =[1]Социум!G9 -> 3 | H9: =[1]Социум!H9 -> 3 | I9: 3 | J9: 19 | K9: 2.7 | L9: 3
C10: I уровень II уровень 2-50% III уровень 2- 50%

Sheet Сводная
A1: Сводный отчет
A2: о результатах стартового мониторинга по отслеживанию развития умений и навыков детей
A3: Оқу жылы | B3: 0"Б"класса на 2022-2023 учебный год
B4: Ф.И.О.ребенка | C4: Образовательная область "Здоровье" | D4: Образовательная область "Коммуникация" | E4: Образовательная область "Познание" | F4: Образовательная область "Творчество" | G4: Образовательная область "Социум" | H4: общее количество баллов | I4: средний балл | J4: уровень развития умений и навыков
A5: 1 | B5: =Коммуникация!B6 -> Болотько Арсений | C5: 3 | D5: 2 | E5: 2 | F5: =[1]Сводная!F5 -> 3 | G5: 2 | H5: 12 | I5: 2.4 | J5: 2
A6: 2 | B6: =Коммуникация!B7 -> Мухамедали Таир | C6: 2 | D6: 2 | E6: 2 | F6: 2 | G6: 2 | H6: 10 | I6: 2 | J6: 2
A7: 3 | B7: =Коммуникация!B8 -> Сулейменов Мухамед Али | C7: 3 | D7: =[1]Сводная!D7 -> 3 | E7: =[1]Сводная!E7 -> 3 | F7: =[1]Сводная!F7 -> 3 | G7: =[1]Сводная!G7 -> 3 | H7: =[1]Сводная!H7 -> 15 | I7: =[1]Сводная!I7 -> 3 | J7: 3
A8: 4 | B8: =Коммуникация!B9 -> Торгушина Альбина | C8: 3 | D8: =[1]Сводная!D8 -> 3 | E8: =[1]Сводная!E8 -> 3 | F8: =[1]Сводная!F8 -> 3 | G8: =[1]Сводная!G8 -> 3 | H8: =[1]Сводная!H8 -> 15 | I8: =[1]Сводная!I8 -> 3 | J8: 3
C9: I уровень II уровень 2-50% III уровень 2-50%

Sheet Лист4
